BEGIN:VCALENDAR
VERSION:2.0
PRODID:-//wp-events-plugin.com//7.2.3.1//EN
TZID:Europe/Berlin
X-WR-TIMEZONE:Europe/Berlin
BEGIN:VEVENT
UID:59@cdsb.eu
DTSTART;TZID=Europe/Berlin:20200424T200000
DTEND;TZID=Europe/Berlin:20200424T235900
DTSTAMP:20220412T161553Z
URL:https://cdsb.eu/events/classic-line-dance-night-mit-dj-silver/
SUMMARY:Classic Line Dance Night mit DJ Silver
DESCRIPTION:Bei dieser besonderen Line Dance Party werden wir die älteren 
 Line Dances wieder aufleben lassen. Durch die mittlerweile sehr schnellleb
 ig gewordenen Tänze\, ist die Tanzvielfalt enorm gewachsen. Daher geraten
  die alten schönen Tänze leider immer mehr in Vergessenheit oder können
  bei anderen Line Dance Party‘s aus Zeitgründen kaum gespielt werden. \
 n\nUnter dem Motto „Classic“ möchten wir dagegen steuern und ausschli
 eßlich Tänze aus dem Jahre 2010 und früher wieder erleben. Egal ob ihr 
 jetzt schon jahrelang Line Dance tanzt oder erst vor kurzen angefangen hab
 t. Die Klassiker unter den Line Dances sind vielen bekannt. Lasst uns geme
 insam an die alten Zeiten erinnern.
CATEGORIES:Line Dance Party
LOCATION:American Western Saloon\, Königshorster Straße 6 \, Berlin - Rei
 nickendorf\, Berlin\, 13439\, Deutschland
GEO:52.5983169;13.3506754
X-APPLE-STRUCTURED-LOCATION;VALUE=URI;X-ADDRESS=Königshorster Straße 6 \,
  Berlin - Reinickendorf\, Berlin\, 13439\, Deutschland;X-APPLE-RADIUS=100;
 X-TITLE=American Western Saloon:geo:52.5983169,13.3506754
END:VEVENT
BEGIN:VTIMEZONE
TZID:Europe/Berlin
X-LIC-LOCATION:Europe/Berlin
BEGIN:DAYLIGHT
DTSTART:20200329T030000
TZOFFSETFROM:+0100
TZOFFSETTO:+0200
TZNAME:CEST
END:DAYLIGHT
END:VTIMEZONE
END:VCALENDAR