BEGIN:VCALENDAR
VERSION:2.0
PRODID:-//wp-events-plugin.com//7.2.3.1//EN
TZID:Europe/Berlin
X-WR-TIMEZONE:Europe/Berlin
BEGIN:VEVENT
UID:58@cdsb.eu
DTSTART;TZID=Europe/Berlin:20201030T193000
DTEND;TZID=Europe/Berlin:20201030T232900
DTSTAMP:20220412T161553Z
URL:https://cdsb.eu/events/country-dance-night-mit-dj-silver-okt-2020/
SUMMARY:Country Dance Night mit DJ Silver
DESCRIPTION:Mit dem Two Step - Workshop ab 19 Uhr wollen wir eine alte Trad
 ition aufleben lassen und den Two Step im American Western Saloon wieder e
 tablieren. Dann ab 20:30 Uhr - Country Dance Night - An diesem Abend steht
  die Countrymusik zu 100% im Mittelpunkt. Egal ob ihr jetzt Line\, Catalan
 \, Partner oder Couple Dance mögt.
CATEGORIES:Line Dance Party,Workshop
LOCATION:American Western Saloon\, Königshorster Straße 6 \, Berlin - Rei
 nickendorf\, Berlin\, 13439\, Deutschland
GEO:52.5983169;13.3506754
X-APPLE-STRUCTURED-LOCATION;VALUE=URI;X-ADDRESS=Königshorster Straße 6 \,
  Berlin - Reinickendorf\, Berlin\, 13439\, Deutschland;X-APPLE-RADIUS=100;
 X-TITLE=American Western Saloon:geo:52.5983169,13.3506754
END:VEVENT
BEGIN:VTIMEZONE
TZID:Europe/Berlin
X-LIC-LOCATION:Europe/Berlin
BEGIN:STANDARD
DTSTART:20201025T020000
TZOFFSETFROM:+0200
TZOFFSETTO:+0100
TZNAME:CET
END:STANDARD
END:VTIMEZONE
END:VCALENDAR