BEGIN:VCALENDAR
VERSION:2.0
PRODID:-//wp-events-plugin.com//7.2.3.1//EN
TZID:Europe/Berlin
X-WR-TIMEZONE:Europe/Berlin
BEGIN:VEVENT
UID:130@cdsb.eu
DTSTART;TZID=Europe/Berlin:20261010T170000
DTEND;TZID=Europe/Berlin:20261010T220000
DTSTAMP:20251113T215250Z
URL:https://cdsb.eu/events/line-dance-party-bei-den-fire-boots-jeserig-202
 6/
SUMMARY:Line Dance Party bei den Fire Boots (Jeserig)
DESCRIPTION:DJ Silver ist zum zweiten Mal bei den Fire Boots geladen. Gespi
 elt wird von Wunschliste. Geplant ist auch ein kleiner Workshop während d
 er Line Dance Party einzubauen.\n\nEinlass: 16 Uhr\n\nBeginn: 17 Uhr\n\nRe
 servierung (Start: ???) unter fireboots@gmx.de (nur mit Vorkasse)
ATTACH;FMTTYPE=image/jpeg:https://cdsb.eu/wp-content/uploads/2024/06/Logo-
 DJ-Silver.png
CATEGORIES:Line Dance Party,Workshop
LOCATION:Fire Boots Line Dance Jeserig\, Grüner Weg 4\, Groß Kreutz\, Bra
 ndenburg\, 14550\, Deutschland
X-APPLE-STRUCTURED-LOCATION;VALUE=URI;X-ADDRESS=Grüner Weg 4\, Groß Kreut
 z\, Brandenburg\, 14550\, Deutschland;X-APPLE-RADIUS=100;X-TITLE=Fire Boot
 s Line Dance Jeserig:geo:0,0
END:VEVENT
BEGIN:VTIMEZONE
TZID:Europe/Berlin
X-LIC-LOCATION:Europe/Berlin
BEGIN:DAYLIGHT
DTSTART:20260329T030000
TZOFFSETFROM:+0100
TZOFFSETTO:+0200
TZNAME:CEST
END:DAYLIGHT
END:VTIMEZONE
END:VCALENDAR