BEGIN:VCALENDAR
VERSION:2.0
PRODID:-//wp-events-plugin.com//7.2.3.1//EN
TZID:Europe/Berlin
X-WR-TIMEZONE:Europe/Berlin
BEGIN:VEVENT
UID:77@cdsb.eu
DTSTART;TZID=Europe/Berlin:20230317T190000
DTEND;TZID=Europe/Berlin:20230317T230000
DTSTAMP:20221204T141736Z
URL:https://cdsb.eu/events/patricks-day-irish-line-dance-eve-mit-dj-silver
 /
SUMMARY:Patricks Day - Irish Line Dance Eve' mit DJ Silver
DESCRIPTION:Ein besonderes Line Dance Event mit DJ Silver im Western Saloon
 . An diesen Abend werden wir bevorzugt zu Irish Country Musik tanzen - von
  Aberdeen bis Whiskey In The Jar. Musik von Derek Ryan über Nathan Carter
  und viele andere.
CATEGORIES:Line Dance Party
LOCATION:American Western Saloon\, Königshorster Straße 6 \, Berlin - Rei
 nickendorf\, Berlin\, 13439\, Deutschland
GEO:52.5983169;13.3506754
X-APPLE-STRUCTURED-LOCATION;VALUE=URI;X-ADDRESS=Königshorster Straße 6 \,
  Berlin - Reinickendorf\, Berlin\, 13439\, Deutschland;X-APPLE-RADIUS=100;
 X-TITLE=American Western Saloon:geo:52.5983169,13.3506754
END:VEVENT
BEGIN:VTIMEZONE
TZID:Europe/Berlin
X-LIC-LOCATION:Europe/Berlin
BEGIN:STANDARD
DTSTART:20221030T020000
TZOFFSETFROM:+0200
TZOFFSETTO:+0100
TZNAME:CET
END:STANDARD
END:VTIMEZONE
END:VCALENDAR